BEGIN:VCALENDAR
VERSION:2.0
PRODID:-//Caney Mountain Horse Camp - ECPv6.15.12.2//NONSGML v1.0//EN
CALSCALE:GREGORIAN
METHOD:PUBLISH
X-WR-CALNAME:Caney Mountain Horse Camp
X-ORIGINAL-URL:https://caneyhorsecamp.com
X-WR-CALDESC:Events for Caney Mountain Horse Camp
REFRESH-INTERVAL;VALUE=DURATION:PT1H
X-Robots-Tag:noindex
X-PUBLISHED-TTL:PT1H
BEGIN:VTIMEZONE
TZID:UTC
BEGIN:STANDARD
TZOFFSETFROM:+0000
TZOFFSETTO:+0000
TZNAME:UTC
DTSTART:20230101T000000
END:STANDARD
END:VTIMEZONE
BEGIN:VEVENT
DTSTART;TZID=UTC:20241006T080000
DTEND;TZID=UTC:20241012T170000
DTSTAMP:20260423T142438
CREATED:20230802T043658Z
LAST-MODIFIED:20230804T042124Z
UID:1230-1728201600-1728752400@caneyhorsecamp.com
SUMMARY:Caney Big Country & Campfires
DESCRIPTION:Details TBA
URL:https://caneyhorsecamp.com/event/caney-big-country-campfires/
LOCATION:Caney Mountain\, Caney Mountain\, AR\, 72617\, United States
CATEGORIES:Organized Rides
ORGANIZER;CN="CMHC":MAILTO:caneycamp@gmail.com
END:VEVENT
END:VCALENDAR