BEGIN:VCALENDAR
VERSION:2.0
PRODID:-//Caney Mountain Horse Camp - ECPv6.15.12.2//NONSGML v1.0//EN
CALSCALE:GREGORIAN
METHOD:PUBLISH
X-ORIGINAL-URL:https://caneyhorsecamp.com
X-WR-CALDESC:Events for Caney Mountain Horse Camp
REFRESH-INTERVAL;VALUE=DURATION:PT1H
X-Robots-Tag:noindex
X-PUBLISHED-TTL:PT1H
BEGIN:VTIMEZONE
TZID:UTC
BEGIN:STANDARD
TZOFFSETFROM:+0000
TZOFFSETTO:+0000
TZNAME:UTC
DTSTART:20230101T000000
END:STANDARD
END:VTIMEZONE
BEGIN:VEVENT
DTSTART;TZID=UTC:20241201T080000
DTEND;TZID=UTC:20241207T170000
DTSTAMP:20260422T005200
CREATED:20230802T044123Z
LAST-MODIFIED:20230804T042208Z
UID:1234-1733040000-1733590800@caneyhorsecamp.com
SUMMARY:Fall Mule Ride
DESCRIPTION:Details TBA
URL:https://caneyhorsecamp.com/event/caney-big-country-campfires-2/
LOCATION:Caney Mountain\, Caney Mountain\, AR\, 72617\, United States
CATEGORIES:Organized Rides
ORGANIZER;CN="CMHC":MAILTO:caneycamp@gmail.com
END:VEVENT
END:VCALENDAR