BEGIN:VCALENDAR
VERSION:2.0
PRODID:-//Caney Mountain Horse Camp - ECPv6.15.12.2//NONSGML v1.0//EN
CALSCALE:GREGORIAN
METHOD:PUBLISH
X-WR-CALNAME:Caney Mountain Horse Camp
X-ORIGINAL-URL:https://caneyhorsecamp.com
X-WR-CALDESC:Events for Caney Mountain Horse Camp
REFRESH-INTERVAL;VALUE=DURATION:PT1H
X-Robots-Tag:noindex
X-PUBLISHED-TTL:PT1H
BEGIN:VTIMEZONE
TZID:UTC
BEGIN:STANDARD
TZOFFSETFROM:+0000
TZOFFSETTO:+0000
TZNAME:UTC
DTSTART:20230101T000000
END:STANDARD
END:VTIMEZONE
BEGIN:VEVENT
DTSTART;TZID=UTC:20240405T080000
DTEND;TZID=UTC:20240412T170000
DTSTAMP:20260424T002534
CREATED:20230228T041341Z
LAST-MODIFIED:20230306T155354Z
UID:1026-1712304000-1712941200@caneyhorsecamp.com
SUMMARY:Solar Eclipse Ride
DESCRIPTION:Let’s do some planning ahead! On April 8\, 2024 there will be a complete eclipse of the sun. A solar eclipse\, where the moon passes between earth and the sun. Believe it or not\, there will be no place better to watch it than north central Arkansas. Caney Mountain Horse Camp! Do your research as many already have. We are booking reservations daily for the week of April 5-12\, 2024. What better place to view the eclipse than the Bee Hive\, Beauty Bluff or any of the many scenic overlooks. Book your stay now\, before we fill up.
URL:https://caneyhorsecamp.com/event/solar-eclipse-ride/
LOCATION:AR
CATEGORIES:Organized Rides
ATTACH;FMTTYPE=image/jpeg:https://caneyhorsecamp.com/wp-content/uploads/2023/02/IMG_8609.jpg
END:VEVENT
END:VCALENDAR